BEGIN:VCALENDAR
VERSION:2.0
PRODID:http://www.bildung-leben.de
BEGIN:VEVENT
UID:e1657c4b-dd1d-11f0-8342-0242ac11002b-1783753200000-de
DTSTAMP:20251219T210125Z
DTSTART:20260711T070000Z
DTEND:20260711T110000Z
SUMMARY;LANGUAGE=de:Umgang mit Sterbewünschen für Ehrenamtliche und Betreuungskräfte
LOCATION;LANGUAGE=de:St. Jakobus Hospiz\, Eisenbahnstr. 18\, 66117 Saarbrücken
END:VEVENT
END:VCALENDAR
