BEGIN:VCALENDAR
VERSION:2.0
PRODID:http://www.bildung-leben.de
BEGIN:VEVENT
UID:c3418c75-3c7c-11f1-a3e9-0242ac11002b-1788444000000-de
DTSTAMP:20260420T054957Z
DTSTART:20260903T140000Z
DTEND:20260903T180000Z
SUMMARY;LANGUAGE=de:Kunstausstellung von Dmytro Kashtanov im SeniorenHaus St. Augustin Püttlingen
LOCATION;LANGUAGE=de:Caritas Seniorenhaus St. Augustin\, Espenstraße 1\, 66346 Püttlingen
END:VEVENT
END:VCALENDAR
