BEGIN:VCALENDAR
VERSION:2.0
PRODID:http://www.bildung-leben.de
BEGIN:VEVENT
UID:a4f253df-3cf3-11f1-a3e9-0242ac11002b-1769270400000-de
DTSTAMP:20260420T200056Z
DTSTART:20260124T160000Z
DTEND:20260124T173000Z
SUMMARY;LANGUAGE=de:Digitaler Treff im MGH (Hildegardzentrum)
DESCRIPTION;LANGUAGE=de:Offener Treff (Treff findet nicht in den Schulferien statt!)
LOCATION;LANGUAGE=de:Im Zentrum St. Hildegard\, Bahnstraße 26\, Café Kleeblatt\, 55543 Bad Kreuznach
END:VEVENT
END:VCALENDAR
