BEGIN:VCALENDAR
VERSION:2.0
PRODID:http://www.bildung-leben.de
BEGIN:VEVENT
UID:5636d670-d428-11f0-96e0-0242ac11002b-1778160600000-de
DTSTAMP:20251208T112335Z
DTSTART:20260507T133000Z
DTEND:20260507T150000Z
SUMMARY;LANGUAGE=de:Eltern-Kind-Spielkreis in Limbach (Donnerstag) 
DESCRIPTION;LANGUAGE=de:Für Eltern mit Kindern im Alter von 1 bis 3 Jahren
LOCATION;LANGUAGE=de:Alte Schule Limbach\, Kirchenstraße 35 \, 66839 Schmelz
END:VEVENT
END:VCALENDAR
