BEGIN:VCALENDAR
VERSION:2.0
PRODID:http://www.bildung-leben.de
BEGIN:VEVENT
UID:0bf456a9-c654-11f0-83f5-0242ac11002b-1778139000000-de
DTSTAMP:20251120T210112Z
DTSTART:20260507T073000Z
DTEND:20260507T093000Z
SUMMARY;LANGUAGE=de:Literatur-Club - Bleiben Sie geistig agil und lesen Sie Bücher!
LOCATION;LANGUAGE=de:Katholische Familienbildungsstätte\, Ludwig-Karl-Balzer-Allee 3\, 66740 Saarlouis
END:VEVENT
END:VCALENDAR
